BEGIN:VCALENDAR
VERSION:2.0
PRODID:-//jEvents 2.0 for Joomla//EN
CALSCALE:GREGORIAN
METHOD:PUBLISH
BEGIN:VTIMEZONE
TZID:Europe/Berlin
BEGIN:STANDARD
DTSTART:20250309T190000
RDATE:20250330T030000
TZOFFSETFROM:+0200
TZOFFSETTO:+0100
TZNAME:Europe/Berlin CET
END:STANDARD
BEGIN:STANDARD
DTSTART:20251026T020000
RDATE:20260329T030000
TZOFFSETFROM:+0200
TZOFFSETTO:+0100
TZNAME:Europe/Berlin CET
END:STANDARD
BEGIN:STANDARD
DTSTART:20261025T020000
RDATE:20270328T030000
TZOFFSETFROM:+0200
TZOFFSETTO:+0100
TZNAME:Europe/Berlin CET
END:STANDARD
BEGIN:STANDARD
DTSTART:20271031T020000
RDATE:20280326T030000
TZOFFSETFROM:+0200
TZOFFSETTO:+0100
TZNAME:Europe/Berlin CET
END:STANDARD
BEGIN:STANDARD
DTSTART:20281029T020000
RDATE:20290325T030000
TZOFFSETFROM:+0200
TZOFFSETTO:+0100
TZNAME:Europe/Berlin CET
END:STANDARD
BEGIN:STANDARD
DTSTART:20291028T020000
RDATE:20300331T030000
TZOFFSETFROM:+0200
TZOFFSETTO:+0100
TZNAME:Europe/Berlin CET
END:STANDARD
BEGIN:STANDARD
DTSTART:20301027T020000
RDATE:20310330T030000
TZOFFSETFROM:+0200
TZOFFSETTO:+0100
TZNAME:Europe/Berlin CET
END:STANDARD
BEGIN:STANDARD
DTSTART:20311026T020000
RDATE:20320328T030000
TZOFFSETFROM:+0200
TZOFFSETTO:+0100
TZNAME:Europe/Berlin CET
END:STANDARD
BEGIN:DAYLIGHT
DTSTART:20250330T030000
RDATE:20251026T020000
TZOFFSETFROM:+0100
TZOFFSETTO:+0200
TZNAME:Europe/Berlin CEST
END:DAYLIGHT
BEGIN:DAYLIGHT
DTSTART:20260329T030000
RDATE:20261025T020000
TZOFFSETFROM:+0100
TZOFFSETTO:+0200
TZNAME:Europe/Berlin CEST
END:DAYLIGHT
BEGIN:DAYLIGHT
DTSTART:20270328T030000
RDATE:20271031T020000
TZOFFSETFROM:+0100
TZOFFSETTO:+0200
TZNAME:Europe/Berlin CEST
END:DAYLIGHT
BEGIN:DAYLIGHT
DTSTART:20280326T030000
RDATE:20281029T020000
TZOFFSETFROM:+0100
TZOFFSETTO:+0200
TZNAME:Europe/Berlin CEST
END:DAYLIGHT
BEGIN:DAYLIGHT
DTSTART:20290325T030000
RDATE:20291028T020000
TZOFFSETFROM:+0100
TZOFFSETTO:+0200
TZNAME:Europe/Berlin CEST
END:DAYLIGHT
BEGIN:DAYLIGHT
DTSTART:20300331T030000
RDATE:20301027T020000
TZOFFSETFROM:+0100
TZOFFSETTO:+0200
TZNAME:Europe/Berlin CEST
END:DAYLIGHT
BEGIN:DAYLIGHT
DTSTART:20310330T030000
RDATE:20311026T020000
TZOFFSETFROM:+0100
TZOFFSETTO:+0200
TZNAME:Europe/Berlin CEST
END:DAYLIGHT
END:VTIMEZONE
BEGIN:VEVENT
UID:020f061a0cc57adfc8ccaa3743f4ee32
CATEGORIES:Termine
CREATED:20260219T211009
SUMMARY:Jahreshauptversammlung 2026
DESCRIPTION:Tagesordnung\nBegrüßungJahresbericht des Vorstands für das Jahr 2025Kassenb
 erichtBericht der KassenprüferEntlastung des Vorstands für das Jahr 2025Vor
 haben des Vereins 2026VerschiedenesAuch Nichtmitglieder und alle Nachbarn s
 ind herzlich eingeladen. Anträge und Ergänzungen zur Tagesordnung sind bis 
 spätestens eine Woche vor der Versammlung dem Vorstand einzureichen.\nSollt
 e die laut Satzung zur Beschlussfähigkeit notwendige Zahl von Mitgliedern n
 icht anwesend sein, laden wir vorsorglich zu einer weiteren Mitgliederversa
 mmlung ein, die am selben Abend um 19:15 Uhr stattfinden wird. Diese Versam
 mlung ist, unabhängig von der Zahl der Anwesenden, in jedem Fall beschlussf
 ähig.\n
X-ALT-DESC;FMTTYPE=text/html:<p class="MsoNormalCxSpFirst" style="page-break-after: avoid;"><strong><u><
 span style="mso-bidi-font-size: 14.0pt; line-height: 107%; mso-bidi-font-fa
 mily: 'Times New Roman'; mso-fareast-language: DE;">Tagesordnung</span></u>
 </strong></p><ol style="margin-top: 0cm;" start="1" type="1"><li class="Mso
 Normal" style="margin-bottom: 0cm; line-height: normal; mso-list: l0 level1
  lfo2; tab-stops: list 36.0pt;"><span style="font-size: 12.0pt; mso-bidi-fo
 nt-family: 'Times New Roman'; mso-fareast-language: DE;">Begrüßung</span></
 li><li class="MsoNormal" style="margin-bottom: 0cm; line-height: normal; ms
 o-list: l0 level1 lfo2; tab-stops: list 36.0pt;"><span style="font-size: 12
 .0pt; mso-bidi-font-family: 'Times New Roman'; mso-fareast-language: DE;">J
 ahresbericht des Vorstands für das Jahr 2025</span></li><li class="MsoNorma
 l" style="margin-bottom: 0cm; line-height: normal; mso-list: l0 level1 lfo2
 ; tab-stops: list 36.0pt;"><span style="font-size: 12.0pt; mso-bidi-font-fa
 mily: 'Times New Roman'; mso-fareast-language: DE;">Kassenbericht</span></l
 i><li class="MsoNormal" style="margin-bottom: 0cm; line-height: normal; mso
 -list: l0 level1 lfo2; tab-stops: list 36.0pt;"><span style="font-size: 12.
 0pt; mso-bidi-font-family: 'Times New Roman'; mso-fareast-language: DE;">Be
 richt der Kassenprüfer</span></li><li class="MsoNormal" style="margin-botto
 m: 0cm; line-height: normal; mso-list: l0 level1 lfo2; tab-stops: list 36.0
 pt;"><span style="font-size: 12.0pt; mso-bidi-font-family: 'Times New Roman
 '; mso-fareast-language: DE;">Entlastung des Vorstands für das Jahr 2025</s
 pan></li><li class="MsoNormal" style="margin-bottom: 0cm; line-height: norm
 al; mso-list: l0 level1 lfo2; tab-stops: list 36.0pt;"><span style="font-si
 ze: 12.0pt; mso-bidi-font-family: 'Times New Roman'; mso-fareast-language: 
 DE;">Vorhaben des Vereins 2026</span></li><li class="MsoNormal" style="marg
 in-bottom: 0cm; line-height: normal; mso-list: l0 level1 lfo2; tab-stops: l
 ist 36.0pt;"><span style="font-size: 12.0pt; mso-bidi-font-family: 'Times N
 ew Roman'; mso-fareast-language: DE;">Verschiedenes</span></li></ol><p clas
 s="MsoNormalCxSpMiddle" style="text-align: justify;"><span style="font-size
 : 12.0pt; line-height: 107%; mso-bidi-font-family: 'Times New Roman'; mso-f
 areast-language: DE;">Auch Nichtmitglieder und alle Nachbarn sind herzlich 
 eingeladen. Anträge und Ergänzungen zur Tagesordnung sind bis spätestens ei
 ne Woche vor der Versammlung dem Vorstand einzureichen.</span></p><p class=
 "MsoNormalCxSpMiddle" style="text-align: justify;"><span style="font-size: 
 12.0pt; line-height: 107%; mso-bidi-font-family: 'Times New Roman'; mso-far
 east-language: DE;">Sollte die laut Satzung zur Beschlussfähigkeit notwendi
 ge Zahl von Mitgliedern nicht anwesend sein, laden wir vorsorglich zu einer
  weiteren Mitgliederversammlung ein, die am selben Abend um <u>19:15 Uhr</u
 > stattfinden wird. Diese Versammlung ist, unabhängig von der Zahl der Anwe
 senden, in jedem Fall beschlussfähig.</span></p>
DTSTAMP:20260422T162821
DTSTART;TZID=Europe/Berlin:20260310T190000
DTEND;TZID=Europe/Berlin:20260310T210000
SEQUENCE:0
TRANSP:OPAQUE
END:VEVENT
END:VCALENDAR